BEGIN:VCALENDAR
VERSION:2.0
PRODID:-//Gymnasium Oberalster - ECPv5.9.1//NONSGML v1.0//EN
CALSCALE:GREGORIAN
METHOD:PUBLISH
X-WR-CALNAME:Gymnasium Oberalster
X-ORIGINAL-URL:https://www.gymnasium-oberalster.de
X-WR-CALDESC:Veranstaltungen für Gymnasium Oberalster
BEGIN:VTIMEZONE
TZID:Europe/Berlin
BEGIN:DAYLIGHT
TZOFFSETFROM:+0100
TZOFFSETTO:+0200
TZNAME:CEST
DTSTART:20250330T010000
END:DAYLIGHT
BEGIN:STANDARD
TZOFFSETFROM:+0200
TZOFFSETTO:+0100
TZNAME:CET
DTSTART:20251026T010000
END:STANDARD
END:VTIMEZONE
BEGIN:VEVENT
DTSTART;TZID=Europe/Berlin:20250625T080000
DTEND;TZID=Europe/Berlin:20250627T150000
DTSTAMP:20260422T111108
CREATED:20240402T165109Z
LAST-MODIFIED:20250304T044946Z
UID:72182-1750838400-1751036400@www.gymnasium-oberalster.de
SUMMARY:Abi mündl. Prüfungen
DESCRIPTION:unterrichtsfrei am 26. und 27.06
URL:https://www.gymnasium-oberalster.de/event/abi-muendl-pruefungen/
END:VEVENT
END:VCALENDAR