BEGIN:VCALENDAR
VERSION:2.0
PRODID:-//Gymnasium Oberalster - ECPv5.9.1//NONSGML v1.0//EN
CALSCALE:GREGORIAN
METHOD:PUBLISH
X-WR-CALNAME:Gymnasium Oberalster
X-ORIGINAL-URL:https://www.gymnasium-oberalster.de
X-WR-CALDESC:Veranstaltungen für Gymnasium Oberalster
BEGIN:VTIMEZONE
TZID:Europe/Berlin
BEGIN:DAYLIGHT
TZOFFSETFROM:+0100
TZOFFSETTO:+0200
TZNAME:CEST
DTSTART:20260329T010000
END:DAYLIGHT
BEGIN:STANDARD
TZOFFSETFROM:+0200
TZOFFSETTO:+0100
TZNAME:CET
DTSTART:20261025T010000
END:STANDARD
END:VTIMEZONE
BEGIN:VEVENT
DTSTART;TZID=Europe/Berlin:20260401T193000
DTEND;TZID=Europe/Berlin:20260401T213000
DTSTAMP:20260421T130215
CREATED:20260306T162506Z
LAST-MODIFIED:20260401T192410Z
UID:93860-1775071800-1775079000@www.gymnasium-oberalster.de
SUMMARY:Aufführung "REAL:LIVE?" S4 Lin
DESCRIPTION:
URL:https://www.gymnasium-oberalster.de/event/auffuehrung-reallive-s4-lin-2/
END:VEVENT
END:VCALENDAR