BEGIN:VCALENDAR
VERSION:2.0
PRODID:-//Gymnasium Oberalster - ECPv5.9.1//NONSGML v1.0//EN
CALSCALE:GREGORIAN
METHOD:PUBLISH
X-WR-CALNAME:Gymnasium Oberalster
X-ORIGINAL-URL:https://www.gymnasium-oberalster.de
X-WR-CALDESC:Veranstaltungen für Gymnasium Oberalster
BEGIN:VTIMEZONE
TZID:Europe/Berlin
BEGIN:DAYLIGHT
TZOFFSETFROM:+0100
TZOFFSETTO:+0200
TZNAME:CEST
DTSTART:20200329T010000
END:DAYLIGHT
BEGIN:STANDARD
TZOFFSETFROM:+0200
TZOFFSETTO:+0100
TZNAME:CET
DTSTART:20201025T010000
END:STANDARD
END:VTIMEZONE
BEGIN:VEVENT
DTSTART;TZID=Europe/Berlin:20200127T130000
DTEND;TZID=Europe/Berlin:20200127T140000
DTSTAMP:20260421T101312
CREATED:20200126T131749Z
LAST-MODIFIED:20200126T131749Z
UID:25727-1580130000-1580133600@www.gymnasium-oberalster.de
SUMMARY:Gedenkveranstaltung KZ-Außenlager Sasel
DESCRIPTION:
URL:https://www.gymnasium-oberalster.de/event/gedenkveranstaltung-kz-aussenlager-sasel/
LOCATION:Gedenkstein\, Feldblumenweg\, Hamburg\, 22395\, Deutschland
END:VEVENT
END:VCALENDAR