BEGIN:VCALENDAR
VERSION:2.0
PRODID:-//Gymnasium Oberalster - ECPv5.9.1//NONSGML v1.0//EN
CALSCALE:GREGORIAN
METHOD:PUBLISH
X-WR-CALNAME:Gymnasium Oberalster
X-ORIGINAL-URL:https://www.gymnasium-oberalster.de
X-WR-CALDESC:Veranstaltungen für Gymnasium Oberalster
BEGIN:VTIMEZONE
TZID:Europe/Berlin
BEGIN:DAYLIGHT
TZOFFSETFROM:+0100
TZOFFSETTO:+0200
TZNAME:CEST
DTSTART:20230326T010000
END:DAYLIGHT
BEGIN:STANDARD
TZOFFSETFROM:+0200
TZOFFSETTO:+0100
TZNAME:CET
DTSTART:20231029T010000
END:STANDARD
END:VTIMEZONE
BEGIN:VEVENT
DTSTART;VALUE=DATE:20230627
DTEND;VALUE=DATE:20230701
DTSTAMP:20260423T142613
CREATED:20220606T180701Z
LAST-MODIFIED:20230630T232042Z
UID:49079-1687824000-1688169599@www.gymnasium-oberalster.de
SUMMARY:Zeitraum mündliches Abitur
DESCRIPTION:
URL:https://www.gymnasium-oberalster.de/event/muendliche-abitur/
END:VEVENT
END:VCALENDAR